BEGIN:VCALENDAR
VERSION:2.0
PRODID:-//IndianMusicMug - ECPv6.15.11//NONSGML v1.0//EN
CALSCALE:GREGORIAN
METHOD:PUBLISH
X-ORIGINAL-URL:https://indianmusicmug.com
X-WR-CALDESC:Events for IndianMusicMug
REFRESH-INTERVAL;VALUE=DURATION:PT1H
X-Robots-Tag:noindex
X-PUBLISHED-TTL:PT1H
BEGIN:VTIMEZONE
TZID:Asia/Kolkata
BEGIN:STANDARD
TZOFFSETFROM:+0530
TZOFFSETTO:+0530
TZNAME:IST
DTSTART:20110101T000000
END:STANDARD
END:VTIMEZONE
BEGIN:VEVENT
DTSTART;TZID=Asia/Kolkata:20230318T190000
DTEND;TZID=Asia/Kolkata:20230318T230000
DTSTAMP:20260420T211223
CREATED:20230318T082145Z
LAST-MODIFIED:20230318T082145Z
UID:3573-1679166000-1679180400@indianmusicmug.com
SUMMARY:BIGHORN feat. Jason Richardson & Luke Holland | Kolkata
DESCRIPTION:Kolkata People.\nYou don’t wanna miss this.\nBIGHORNxMoonrivers EventsxSambitC are hosting Jason Richardson and Luke Holland tonight. \nBe there and witness the duo performing a killer set.\nGates open at 7pm\nVenue- 5 Mad Men \nSupporting acts \nfirewillreign\nUniverse in a Crayon\nFacebroke \nBUY TICKETS- Click here \nRSVP- Link
URL:https://indianmusicmug.com/event/bighorn-feat-jason-richardson-luke-holland-kolkata/
LOCATION:Five Mad Men\, & GP\, Salt Lake Electronics Complex\, 1st Floor\, Omega Building\, Bengal Intelligent Park Ltd\, EP Block\, Sector V\, Kolkata\, West Bengal\, 700091\, India
ATTACH;FMTTYPE=image/jpeg:https://indianmusicmug.com/wp-content/uploads/2023/03/Jason-Richardson-Luke-Holland_Kolkata.jpeg
END:VEVENT
BEGIN:VEVENT
DTSTART;TZID=Asia/Kolkata:20230318T190000
DTEND;TZID=Asia/Kolkata:20230318T230000
DTSTAMP:20260420T211223
CREATED:20230316T140713Z
LAST-MODIFIED:20230316T162049Z
UID:3555-1679166000-1679180400@indianmusicmug.com
SUMMARY:Revisit the NU Metal Era
DESCRIPTION:Hey There! \nAre you still wondering what to do this Saturday Night? \n  \nWell\, If you’re a hardcore NU Metal fan then your search is over. \n  \nNOISEBOX AFFAIRS is hosting a special NU-METAL NIGHT. \nVenue- URBAN MANTRA (Zoo Road)\, Guwahati \nDate- 18th March (Saturday) \nGates open at 7pm \n  \nBe there to witness the hardcore riffs and energizing tracks from early 2000 era. \nThe line up will cover bands PAPAROACH\, LIMP-BIZKIT\, DEFTONES\, SLIPKNOT and many more. \nLine Up \nVocals \nPMR \nHIMON CHOUDHURY \nEREKA \nAMIR HASMI HAZARIKA \nPRANJAL KALITA \nNISHAN HAZARIKA \nEDWIN SINGHA \nSHAQ ADIB \nGuitars \nFARHAT HUSSAIN \nAKASH CHOWDHURY \nDEBARSHI HAZARIKA \nDrums \nSUNNY DAS \nDEBARSHI BARUAH \nBass \nEBON BORA \nDEBANUJ RAJKHOWA \nDROOPAD BUJARBARUAH \nThere will be a special opening set by L3UK \nArtwork Credits- Debarshi Hazarika \nBe there and show your love and support.
URL:https://indianmusicmug.com/event/revisit-the-nu-metal-era/
LOCATION:URBAN MANTRA (Zoo Road)\, Near Commerce College\, Above Nexa Showroom\, Guwahati\, Assam\, 781003\, India
CATEGORIES:Pub Show
ATTACH;FMTTYPE=image/jpeg:https://indianmusicmug.com/wp-content/uploads/2023/03/Nu-Metal-Era.jpeg
END:VEVENT
BEGIN:VEVENT
DTSTART;TZID=Asia/Kolkata:20150621T190000
DTEND;TZID=Asia/Kolkata:20150621T220000
DTSTAMP:20260420T211223
CREATED:20150611T083659Z
LAST-MODIFIED:20150611T083659Z
UID:2780-1434913200-1434924000@indianmusicmug.com
SUMMARY:Artist Aloud - World Music Day 2015
DESCRIPTION:5 BRILLIANT performances in 5 Cities on 1 DAY \nThis year ArtistAloud.com and Vh1 India gets into an iconic partnership with the foremost name in the chain of music themed restaurants that is Hard Rock Cafe to support and create a platform for music ” World Music Day ” in association with “Guvera” music App and “Red FM”. The event promises to bring together musicians and music lovers all across India\, with not one but 5 unique musical experiences across various Hard Rock Cafes in Mumbai\, Pune\, Delhi\, Bangalore and Hyderabad on the same day.  \nBand Hunt – Contest \n• Contest will be run on Artist Aloud platforms inviting talent to share their demos and live performance videos.\n• The best entries will be curated by the Bands\, Hard Rock Cafe and Artist Aloud\n• Winner gets the opportunity to perform as the opening Act for the Band at their performing location. \nTo Participate : Download the IMALOUD mobile app from IOS and Android stores and upload your Video/Audio now !! \nAndroid : https://goo.gl/QLq892 \nFull Lineup #WORLDMUSICDAY :  \nMumbai ► Hard Rock Cafe Mumbai ► Angaraag PAPON Mahanta\nRegular: 500 Cover\nVIP Package: Rs. 2\,000 (3 Veg or 3 Non-Veg Starters & Unlimited IMFL)\nTiming: 8 PM \nPune ► Hard Rock Cafe Pune ► INDIVA\nTicket Price:\nRegular: 250 Cover\nVIP Package: 2\,000 (3 Veg or 3 Non-Veg Starters & Unlimited IMFL)\nTiming: 8:30 PM \nDelhi ► Hard Rock Cafe New Delhi ► p a r i k r a m a\nTicket Price:\nRegular: 500 Cover\nVIP Package: Rs.2000 (3 Veg or 3 Non-Veg Starters & Unlimited IMFL)\nTiming: 9:30 PM \nBangalore ► Hard Rock Cafe Bengaluru ► Swarathma\nTicket Price:\nRegular: 100 Entry + 500 Cover\nVIP Package: Rs. 2\,000 (3 Veg or 3 Non-Veg Starters & Unlimited IMFL)\nTiming: 9 PM \nHyderabad ► Hard Rock Cafe Hyderabad ► Avial\nTicket Price:\nRegular: 250 entry 500 cover\nVIP Package: Rs.1500 (3 Veg or 3 Non-Veg Starters & Unlimited IMFL)\nTiming: 8:30 PM \nEvent Partner : Harley-Davidson India \nPower Drink Partner : Urzza \nOnline Media Partner :\nIndian Music Mug\nMusicUnplugged.in \nOnline Promotional Partner :\nEventelaan\nBeatsutra  \nFor all the updates\, VISIT NOW ► www.ArtistAloud.com/
URL:https://indianmusicmug.com/event/artist-aloud-world-music-day-2015/
LOCATION:Hard Rock Cafe – Mumbai\, Pune\, Hyderabad\, Delhi\, Bangalore\, India
END:VEVENT
BEGIN:VEVENT
DTSTART;TZID=Asia/Kolkata:20140419T160000
DTEND;TZID=Asia/Kolkata:20140419T220000
DTSTAMP:20260420T211223
CREATED:20140325T063507Z
LAST-MODIFIED:20140325T063507Z
UID:2551-1397923200-1397944800@indianmusicmug.com
SUMMARY:ANTHEMS OF ROCK - LIVE IN DARJEELING: A Benefit Concert for Human Rights Watch
DESCRIPTION:Spread the Metal Records in Association with VH1 presents: \nANTHEMS OF ROCK : A Benefit Concert for Human Rights Watch\nSupported By : GTA (Gorkhaland Territorial Administration)\nApril 19th\, 2014 – Gorkha Stadium (Public Ground)\nDoors @ 1:00 p.m. / Show @ 4:00 p.m. \nTHE FIRST EVER INTERNATIONAL ROCK SHOW IN DARJEELING! \nFEATURING : \nERIC MARTIN – Mr. Big \nBOBBY KIMBALL – Original Voice of TOTO \nROBERT HART – Ex-Bad Company & Manfred Manns Earth Band \nAnd their sensational live touring musicians:\nSAYIT DÖLEN – Guitar (Enrique Iglesias\, Yngwie Malmsteen and more)\,\nPONTUS ENGBORG – Drums\nKEN SANDIN – Bass\nP-O NILLSON – Keyboards \nDIRECT SUPPORTING BAND: 1974 A.D. \nOn April 19th\, 2014\, some of the biggest rock stars of the 1970’s and 80’s will descend upon Darjeeling\, India\, for one of the biggest rock shows ever to grace the sub-continent! And for the 1st ever international rock show in the history of Darjeeling! \nThe entire concert is a huge benefit to support the life-saving work of Human Rights Watch! They are a non-profit organization dedicated to the eradication of injustice and persecution throughout the world! \nSupporters of the cause for Human Rights Watch can also donate online via PayPal\, Click here \nEric Martin (Mr. BIG)’s Message for Anthems Of Rock:\n\n  \nTicket details :\nV.I.P. Tickets and Early Bird Tickets are out now for @ANTHEMS OF ROCK – LIVE IN DARJEELING: for just Rs. 550/- and V.I.P. Tickets for just Rs. 2800/- (Includes Meet & Greet Pass)\nBuy your Tickets online here \nFor Physical tickets in Gangtok (Sikkim) visit: \nCaféLive AndLoud or you can also contact Mr. Dipendra @ 8016206995\,\nfor Darjeeling : Early bird tickets are now available at Angel’s Production\, Contact Sikher Chettri @9734952593 and the tickets are also available @Rhythm Music Store (Lakpa Da)\, Fachpun Hatta rd. Darjeeling\, Mr. Rahul Gurung @9804766591 for Darjeeling…For anyone looking forward to buy the physical tickets in Siliguri please visit Hi Spirits Cafe & Pub and/or u can also contact (Daniel / Roka) @9749739398 \n_______________________________________ \nHuman Rights Watch: www.hrw.org\nAnthems of Rock: www.anthemsofrock.com\nSpread the Metal Records: www.spreadthemetal.com\nVH1: www.vh1.in\nOfficial Magazine TNT Magazine (The Northeast Today) :www.tntmagazine.in\nOfficial Online Ticketing Partner Books My Show:https://in.bookmyshow.com/\nOfficial Online Partners :\nIndian Music Mug : http://www.indianmusicmug.com/\nSoul Concept India : http://www.soulconceptindia.in/
URL:https://indianmusicmug.com/event/anthems-of-rock-live-in-darjeeling-a-benefit-concert-for-human-rights-watch/
LOCATION:GORKHA STADIUM\, (Public Ground)\, Lebong\, Darjeeling\, West Bengal\, India
ATTACH;FMTTYPE=image/jpeg:https://indianmusicmug.com/wp-content/uploads/2014/03/AOR_Poster.jpg
END:VEVENT
BEGIN:VEVENT
DTSTART;TZID=Asia/Kolkata:20130802T203000
DTEND;TZID=Asia/Kolkata:20130802T220000
DTSTAMP:20260420T211223
CREATED:20130724T062625Z
LAST-MODIFIED:20130724T062625Z
UID:2315-1375475400-1375480800@indianmusicmug.com
SUMMARY:Baiju Dharmajan Syndicate Live at OPUS\, Bangalore
DESCRIPTION:Baiju Dharmajan Syndicate is performing on August 2nd\, Friday 8:30 PM onwards at OPUS\, Bangalore. \nEntry Charge: Rs. 110 (Entry) + Rs. 500 (Cover)
URL:https://indianmusicmug.com/event/baiju-dharmajan-syndicate-live-at-opus-bangalore/
LOCATION:OPUS\, #4\, 1st Main\, Chakravarty Layout\, Palace Cross Road\, Bangalore\, Karnataka\, India
CATEGORIES:Auditorium
ATTACH;FMTTYPE=image/jpeg:https://indianmusicmug.com/wp-content/uploads/2013/07/Great-Indian-Guitar-Trip-by-Baiju-Dharmajan-Low-Res.jpg
END:VEVENT
BEGIN:VEVENT
DTSTART;TZID=Asia/Kolkata:20130801T180000
DTEND;TZID=Asia/Kolkata:20130801T220000
DTSTAMP:20260420T211223
CREATED:20130713T092747Z
LAST-MODIFIED:20130713T092747Z
UID:2304-1375380000-1375394400@indianmusicmug.com
SUMMARY:Absolace live in Guwahati
DESCRIPTION:Terra Mayaa & Rocka Rolla Presents in Association with Eastern Academy of Music \nAbsolace (Progressive Rock) – Dubai \nAlso featuring \nProject Midnight (Post-Hardcore) – Guwahati \nTick’s Talk (Progressive Rock) – Guwahati \n  \n* Dress Code: Smart Casuals (Closed shoes are a must. No capris/ shorts/track pants)
URL:https://indianmusicmug.com/event/absolace-live-in-guwahati/
LOCATION:Terra Mayaa\, Anil Plaza II\, GS Road\, Guwahati\, Assam\, 781005\, India
CATEGORIES:Pub Show
ATTACH;FMTTYPE=image/jpeg:https://indianmusicmug.com/wp-content/uploads/2013/07/Absolace_poster-Guwahati.jpg
END:VEVENT
BEGIN:VEVENT
DTSTART;TZID=Asia/Kolkata:20130708T170000
DTEND;TZID=Asia/Kolkata:20130708T220000
DTSTAMP:20260420T211223
CREATED:20130704T110052Z
LAST-MODIFIED:20130704T113120Z
UID:2273-1373302800-1373320800@indianmusicmug.com
SUMMARY:STORMBRINGER XI
DESCRIPTION:Rocka Rolla & Ozone Presents STORMBRINGER XI \nFeaturing \nAberrant (Groove Metal) – Shillong \nIncidental Groove (Alternative Rock) – Delhi \nDeath On The Horizon (Technical Deathcore) – Guwahati \nTicks Talk (Progressive Metal) – Guwahati \nJupiter Island (Art Rock) – Guwahati
URL:https://indianmusicmug.com/event/stormbringer-xi/
LOCATION:Ozone\, Silver Square Mall\, G.S Road\, Guwahati\, Assam\, 781005\, India
CATEGORIES:Pub Show
ATTACH;FMTTYPE=image/jpeg:https://indianmusicmug.com/wp-content/uploads/2013/07/SBXI.jpg
END:VEVENT
BEGIN:VEVENT
DTSTART;TZID=Asia/Kolkata:20130603T170000
DTEND;TZID=Asia/Kolkata:20130603T220000
DTSTAMP:20260420T211223
CREATED:20130530T075613Z
LAST-MODIFIED:20130530T075613Z
UID:2194-1370278800-1370296800@indianmusicmug.com
SUMMARY:Stormbringer 8 Pub Rock Fest ’13
DESCRIPTION:Club DMD & Rocka Rolla in Association Studio Ocatve\,   powered by Radio GupShup\, Supported By Cybertree India and IndianMusicMug Presents  Stormbringer 8  \n  \nFeaturing: \nASPIRANT(Headlining Band) \nCollasal Corp \nAssassins Fist \nChromatix \nImmortus \n  \nNote: Valid Identity Proof is necessary for entry. 
URL:https://indianmusicmug.com/event/stormbringer-8-pub-rock-fest-13/
LOCATION:Club DMD\, 1st Floor\, Below Six Mile Fly Over\, Opp\, Airtel Office Six Mile\, Guwahati\, Assam\, 781022\, India
CATEGORIES:Pub Show
ATTACH;FMTTYPE=image/jpeg:https://indianmusicmug.com/wp-content/uploads/2013/05/StormBringer8_Poster.jpg
END:VEVENT
BEGIN:VEVENT
DTSTART;TZID=Asia/Kolkata:20130530T160000
DTEND;TZID=Asia/Kolkata:20130601T203000
DTSTAMP:20260420T211223
CREATED:20130524T101202Z
LAST-MODIFIED:20130524T101202Z
UID:2176-1369929600-1370118600@indianmusicmug.com
SUMMARY:SHILLONG BATTLE ROCK 2013
DESCRIPTION:  \nS.C.E.N.E in collaboration with the Dept. of Arts and Culture presents THE SHILLONG BATTLE ROCK 2013 (OPEN BEAT CONTEST) at the U SosoTham Auditorium. \nTotal Cash Prize Rs. 1\,50\,000/- plus Trophies and Certificates. \nPreliminary dates are 30th May (Shillong bands) and 31st May (Outstation bands). \nFinals will be on 1st\,June’2013. \nHeadlinning BAND : To be Announced Shortly. \nLucky Draw on Tickets : Six exciting prizes to be won Acoustic Guitar\, Microphone\,dj Headphone\, gift vouchers from Adidas etc… \nApplication Forms available at : Swish Cafe(Shopper’s Cove\, Laitumkhrah) or you can download here\nLast date of submission : 25th May 2013. \n 
URL:https://indianmusicmug.com/event/shillong-battle-rock-2013/
LOCATION:U Soso Tham Auditorium (State Central Library)\, U Soso Tham Auditorium (State Central Library)\, Shillong\, Meghalaya\, India
CATEGORIES:Auditorium
ATTACH;FMTTYPE=image/jpeg:https://indianmusicmug.com/wp-content/uploads/2013/05/SRR-Poster.jpg
END:VEVENT
BEGIN:VEVENT
DTSTART;TZID=Asia/Kolkata:20130527T173000
DTEND;TZID=Asia/Kolkata:20130527T220000
DTSTAMP:20260420T211223
CREATED:20130524T043537Z
LAST-MODIFIED:20130524T043538Z
UID:2172-1369675800-1369692000@indianmusicmug.com
SUMMARY:Stormbringer VII Pub Rock Fest '13
DESCRIPTION:DMD & Rocka Rolla Presents  Stormbringer VII in association with Studio Ocatve and powered by IndianMusicMug \nFeaturing: \nWork In Progress (Headlining Act)\nGenre – Classic Rock/Blues \nFatal Malice\nGenre – Progressive Metal \nJudas Ancestry\nGenre – Symphonic Extreme Metal \nJupiter Island\nGenre – Progressive/Alternative Rock \nMagnum Opus\nGenre – Alternative Rock \n  \nValid Identity Proof is necessary for entry. 
URL:https://indianmusicmug.com/event/stormbringer-vii-pub-rock-fest-13/
LOCATION:Club DMD\, 1st Floor\, Below Six Mile Fly Over\, Opp\, Airtel Office Six Mile\, Guwahati\, Assam\, 781022\, India
CATEGORIES:Pub Show
ATTACH;FMTTYPE=image/jpeg:https://indianmusicmug.com/wp-content/uploads/2013/05/SB-VII-Poster.jpg
END:VEVENT
BEGIN:VEVENT
DTSTART;VALUE=DATE:20130110
DTEND;VALUE=DATE:20130113
DTSTAMP:20260420T211223
CREATED:20130105T081321Z
LAST-MODIFIED:20130105T082335Z
UID:1621-1357776000-1358035199@indianmusicmug.com
SUMMARY:METROPOLIS-Guwahati Urban Winter Festival 2013
DESCRIPTION:3 DAYs of unique & colorful extravaganza for the first time in Urban History of GUWAHATI . ASSAM !! \n  \n  \n  \n“METROPOLIS” being one of its rare kinds festival will bring altogether more than 1000 artists from the north- eastern state \, mainland India & rest of the world. Artists comprising of musician\, photographer\, painter\, filmmakers\, craftsmen\, folk artists & musicians\, cyclist\, bullet riders\, ethnic cuisines\, tour promoters and many more…\n.\n* The idea behind “METROPOLIS” :_____________________________________ \nThe quality of being urban transcends beyond bricks and mortar. Urbanity is a test of human skills. It is a quest. It is a quench never satisfied. “METROPOLIS” is a portrayal of this meta reality. The history of humanity is a story of ceaseless migrations. The phenomenon of migrating from rural areas to urban areas is continuing since the dawn of history. Since ages\, people are migrating to the “METROPOLIS” in search of a better future. This is the story of all of us. This is the story of urbanity. \nThe city gives hard knocks to everyone. In the fast paced urban space we seek for an existence\, a continuous trial to fit in. The city has an ingrained quality of moulding people according to its needs. With the test of time\, the continuous struggle for survival and the inevitable rat race associated with it transforms a ‘villager’ to a ‘city dweller’. The “METROPOLIS” teaches all of us to thrive on\, to dream on and most importantly to live on. \n 
URL:https://indianmusicmug.com/event/metropolis-guwahati-urban-winter-festival-2013/
LOCATION:Shraddhanjali Kanan\, R.G Barua Road\, Guwahati\, Assam\, 781021\, India
CATEGORIES:Open Air Gig
END:VEVENT
BEGIN:VEVENT
DTSTART;TZID=Asia/Kolkata:20120713T210000
DTEND;TZID=Asia/Kolkata:20120713T210000
DTSTAMP:20260420T211223
CREATED:20120711T061646Z
LAST-MODIFIED:20120711T061646Z
UID:1078-1342213200-1342213200@indianmusicmug.com
SUMMARY:CAESARS OF THE GREEN LIVE @ ROCK A FELLA DEFENCE COLONY
DESCRIPTION:CAESARS OF THE GREEN – AN INDIE ROCK BAND PERFORMING LIVE ON THE 13th JULY\, 9pm ONWARDS. \nENJOY THE MUSIC AND 1+1 OFFER. \nFacebook \nBandcamp \nSoundcloud \nYoutube \n  \n 
URL:https://indianmusicmug.com/event/caesars-of-the-green-live-rock-a-fella-defence-colony/
LOCATION:ROCK A FELLA\, Defence Colony\, New Delhi\, India
CATEGORIES:Pub Show
ATTACH;FMTTYPE=image/jpeg:https://indianmusicmug.com/wp-content/uploads/2012/07/Caesars-Of-The-Green.jpg
END:VEVENT
BEGIN:VEVENT
DTSTART;TZID=Asia/Kolkata:20120630T110000
DTEND;TZID=Asia/Kolkata:20120630T150059
DTSTAMP:20260420T211223
CREATED:20120629T110203Z
LAST-MODIFIED:20120629T110203Z
UID:991-1341054000-1341068459@indianmusicmug.com
SUMMARY:QUADRIVIUM 1.0 - a musical clinic
DESCRIPTION:Club Muzik and Hills Sound Reinforcement will organize a one day musical clinic called QUADRIVIUM on the 30th of June\, 2012 at Senapati\, Manipur. The workshop is a part of the Club Muzik’s venture to promote and uplift the local musicians and artist to strive to the present competitive scenario in the world music scene. With the sharing of knowledge and experiences on live music and it’s technicality the participants of the event will also come across artist\, individuals\, crews\, promoters etc. in the field of rock music. \n                    It is an open event to everyone with no restricted passes. Anyone who is interested in music are invited in the event. \n  \nResource Person:\n1. Punii – Vocal Technique\n2. Amang – Tips on Gain Structure\, EQ and Stage Performance.\n3. Khunjaoba (Thoi) – Basic Drumming Lessons and Techniques.
URL:https://indianmusicmug.com/event/quadrivium-1-0-a-musical-clinic/
LOCATION:TNK Conference Hall\, TNK Conference Hall\, Senapati\, Manipur\, Manipur\, India
CATEGORIES:Auditorium
ATTACH;FMTTYPE=image/jpeg:https://indianmusicmug.com/wp-content/uploads/2012/06/QUADRIVIUM1.0.jpg
END:VEVENT
BEGIN:VEVENT
DTSTART;TZID=Asia/Kolkata:20120612T160000
DTEND;TZID=Asia/Kolkata:20120612T220059
DTSTAMP:20260420T211223
CREATED:20120519T113933Z
LAST-MODIFIED:20120519T113933Z
UID:717-1339516800-1339538459@indianmusicmug.com
SUMMARY:Monsoon Beats\, 2012
DESCRIPTION:This monsoon the CLUB MUZIK is bringing a rock music fest\, MONSOON BEATS \nfeaturing \nNOISEWARE (Pune)\, \nMAGDALENE (Aizawl)\, and \nDIGITAL SUICIDE (Guwahati) \nalongside CLEAVE (Imphal)\, \nRUBICONS (Imphal) and \nTHE WISHESS (Imphal) \nwith the theme “Rage Against Crime”. The Event is a protest against the recent increase in the criminal acts like rape\, murder\, communal riots etc. in the country. As a sign of goodwill and a helping hand to the socially handicapped children the CLUB MUZIK is promising to donate 10% of the total amount collected through the ticket sales of the event to The Children Homes.So People! Come\, cheer and celebrate the true spirit of protest through good music and a memorable evening .
URL:https://indianmusicmug.com/event/monsoon-beats-2012/
LOCATION:YAC Range ground\, Imphal\, Manipur\, India
CATEGORIES:Open Air Gig
ATTACH;FMTTYPE=image/jpeg:https://indianmusicmug.com/wp-content/uploads/2012/05/HOARDING.jpg
END:VEVENT
BEGIN:VEVENT
DTSTART;TZID=Asia/Kolkata:20120603T213000
DTEND;TZID=Asia/Kolkata:20120603T213059
DTSTAMP:20260420T211223
CREATED:20120521T070755Z
LAST-MODIFIED:20120521T071131Z
UID:776-1338759000-1338759059@indianmusicmug.com
SUMMARY:Crying Wolf - Blakc launches "MotheredLand"
DESCRIPTION:MotheredLand” is their second studio album. The album was recorded at Yashraj studios\, mixed by Shantanu Hudlikar (Yashraj) and Keshav Dhar (Skyharbor) and mastered by Chris Athens (AC/DC\, Coldplay) at Sterling Studios\, New York.  \nThe track list for the album is \nBitten\nThe Dreamcast\nAgenda\nPeddler Of Rainbows\nUntitled\nAngry Song\nBlacklisted\nStorm\nPaperdoll\nPorcelain (Carpenters Don’t Fuck) \n“MotheredLand” means a highly fucked state of affairs\, caused by a few power crazy fucking wolves \nLets not be sheep\, shall we
URL:https://indianmusicmug.com/event/crying-wolf-blakc-launches-motheredland/
LOCATION:The Blue Frog\, Senapati Bapat Marg\, Mumbai\, Mumbai\, India
CATEGORIES:Pub Show
ATTACH;FMTTYPE=image/jpeg:https://indianmusicmug.com/wp-content/uploads/2012/05/Crying-Wolf-Blakc-launches-MotheredLand.jpg
END:VEVENT
BEGIN:VEVENT
DTSTART;TZID=Asia/Kolkata:20120603T170000
DTEND;TZID=Asia/Kolkata:20120603T220059
DTSTAMP:20260420T211223
CREATED:20120519T104120Z
LAST-MODIFIED:20120519T104120Z
UID:712-1338742800-1338760859@indianmusicmug.com
SUMMARY:SPIRIT UNDERGROUND PUB ROCK.ROCKA ROLLA PRESENTS "STORMBRINGER IV"S
DESCRIPTION:Featuring Bands: \n1) Noiseware (Pune)\n2) Dark Carnage (Guwahati)\n3) bolt from the blue (Guwahati)\n4) Fall of Romeo (Guwahati)\n5) samiran sonowal(surat)
URL:https://indianmusicmug.com/event/spirit-underground-pub-rock-rocka-rolla-presents-stormbringer-ivs/
LOCATION:Blues Club\, Zoo Road Tiniali\, Guwahati\, Assam\, 781003\, India
CATEGORIES:Pub Show
END:VEVENT
BEGIN:VEVENT
DTSTART;TZID=Asia/Kolkata:20120526T140000
DTEND;TZID=Asia/Kolkata:20120526T220059
DTSTAMP:20260420T211223
CREATED:20120523T070350Z
LAST-MODIFIED:20120523T070350Z
UID:803-1338040800-1338069659@indianmusicmug.com
SUMMARY:Bob Dylan's Birthday Celebration # 71
DESCRIPTION:Bob Dylan\, one of the most celebrated poet\, singer & song-writer of his time\, turns 71 years old on 24th May 2012. And like every other year\, Shillong will be ushering in The Bard’s birthday with pomp and gusto. \n  \nThis year’s event-the 40th year in running and aptly named “Knocked Out & Loaded” promises to celebrate in the true spirit of the occasion with performing artists \nWhirling Kalapas which is fronted by Uday Benegal (of Indus Creed fame)\, \nAce Of Spades (All Star Band) \nand coming all the way from the United States of America – Parker Ainsworth & Jeff Harding and Skye and the man who has always been the Soul of the annual celebrations\, Lou Majaw. \n  \nEvent Managed By CPEN and IMAGENATION \n  \nTickets will be available at the venue
URL:https://indianmusicmug.com/event/bob-dylans-birthday-celebration-71/
LOCATION:Orchid Lake\, Shillong\, Meghalaya\, India
CATEGORIES:Open Air Gig
ATTACH;FMTTYPE=image/jpeg:https://indianmusicmug.com/wp-content/uploads/2012/05/creative.jpg
END:VEVENT
BEGIN:VEVENT
DTSTART;TZID=Asia/Kolkata:20120525T180000
DTEND;TZID=Asia/Kolkata:20120525T220059
DTSTAMP:20260420T211223
CREATED:20120521T065945Z
LAST-MODIFIED:20120521T065958Z
UID:772-1337968800-1337983259@indianmusicmug.com
SUMMARY:Wacken East India auditions
DESCRIPTION:Wacken East India Auditions.\n \nIn association with Spirit Underground.\n \nBands –\nAgnostic(Guwahati)\nDamage Era(Darjelling)\nDevoid of Dreams(Guwahati)\nScarface(Kolkota)\n 
URL:https://indianmusicmug.com/event/wacken-east-india-auditions/
LOCATION:Blues Club\, Zoo Road Tiniali\, Guwahati\, Assam\, 781003\, India
CATEGORIES:Pub Show
ATTACH;FMTTYPE=image/jpeg:https://indianmusicmug.com/wp-content/uploads/2012/05/Wacken-2012.jpg
END:VEVENT
BEGIN:VEVENT
DTSTART;TZID=Asia/Kolkata:20120525T180000
DTEND;TZID=Asia/Kolkata:20120525T220059
DTSTAMP:20260420T211223
CREATED:20120520T201235Z
LAST-MODIFIED:20120520T201235Z
UID:761-1337968800-1337983259@indianmusicmug.com
SUMMARY:Indian Ocean LIVE in NEW DELHI!
DESCRIPTION:CELEBRATE AFRICA DAY IN INDIA \nINDIAFRICA: A Shared Future presents Indian Ocean LIVE in NEW DELHI!  To win free passes\, register here \nIncrease your chances of getting free entry by sharing the poster! \n  \nfor more info click here \n  \nOther Performers: \nSlumGods [ Hip Hop Collective] \nHorn of Africa [Dance Troupe] \nAmazing Talent [African Rock Band] \n  \nEvent Partners: Amity University\, NIIT \nManaging Partner: theIdeaWorks \nSupported By: Public Diplomacy Division
URL:https://indianmusicmug.com/event/indian-ocean-live-in-new-delhi/
LOCATION:Siri Fort Auditorium\, New Delhi\, Delhi\, India
CATEGORIES:Auditorium
ATTACH;FMTTYPE=image/jpeg:https://indianmusicmug.com/wp-content/uploads/2012/05/Indian-Ocean-LIVE-in-NEW-DELHI.jpg
END:VEVENT
END:VCALENDAR